BEGIN:VCALENDAR
VERSION:2.0
PRODID:-//wp-events-plugin.com//7.2.3.1//EN
TZID:Europe/Berlin
X-WR-TIMEZONE:Europe/Berlin
BEGIN:VEVENT
UID:81@msswh.de
DTSTART;TZID=Europe/Berlin;VALUE=DATE:20221227
DTEND;TZID=Europe/Berlin;VALUE=DATE:20230107
DTSTAMP:20221107T182614Z
URL:https://msswh.de/events/weihnachtsferien-2/
SUMMARY:Weihnachtsferien
DESCRIPTION:Letzter Schultag 23.12.2022\n\nSchulschluss für ALLE 10:00 Uhr
 \n\nkeine Betreuung
LOCATION:Montessorischule Weißenhorn\, Private Montessori-Schule Weißenho
 rn Claretinerstraße 3 \, Weißenhorn\, 89264\, Deutschland
X-APPLE-STRUCTURED-LOCATION;VALUE=URI;X-ADDRESS=Private Montessori-Schule W
 eißenhorn Claretinerstraße 3 \, Weißenhorn\, 89264\, Deutschland;X-APPL
 E-RADIUS=100;X-TITLE=Montessorischule Weißenhorn:geo:0,0
END:VEVENT
BEGIN:VTIMEZONE
TZID:Europe/Berlin
X-LIC-LOCATION:Europe/Berlin
BEGIN:STANDARD
DTSTART:20221030T020000
TZOFFSETFROM:+0200
TZOFFSETTO:+0100
TZNAME:CET
END:STANDARD
END:VTIMEZONE
END:VCALENDAR