BEGIN:VCALENDAR
VERSION:2.0
PRODID:-//wp-events-plugin.com//7.2.3.1//EN
TZID:Europe/Berlin
X-WR-TIMEZONE:Europe/Berlin
BEGIN:VEVENT
UID:2@msswh.de
DTSTART;TZID=Europe/Berlin:20200213T180000
DTEND;TZID=Europe/Berlin:20200213T220000
DTSTAMP:20200204T190846Z
URL:https://msswh.de/events/peruanischer-abend/
SUMMARY:Peruanischer Abend
DESCRIPTION:
CATEGORIES:Veranstaltung
LOCATION:Private Montessorischule Weißenhorn\, Claretsaal\, Claretinerstra
 ße 3 \, Weißenhorn\, Bayern\, 89264\, Deutschland
X-APPLE-STRUCTURED-LOCATION;VALUE=URI;X-ADDRESS=Claretinerstraße 3 \, Wei
 ßenhorn\, Bayern\, 89264\, Deutschland;X-APPLE-RADIUS=100;X-TITLE=Private
  Montessorischule Weißenhorn\, Claretsaal:geo:0,0
END:VEVENT
BEGIN:VTIMEZONE
TZID:Europe/Berlin
X-LIC-LOCATION:Europe/Berlin
BEGIN:STANDARD
DTSTART:20191027T020000
TZOFFSETFROM:+0200
TZOFFSETTO:+0100
TZNAME:CET
END:STANDARD
END:VTIMEZONE
END:VCALENDAR