BEGIN:VCALENDAR
VERSION:2.0
PRODID:-//wp-events-plugin.com//7.2.3.1//EN
TZID:Europe/Berlin
X-WR-TIMEZONE:Europe/Berlin
BEGIN:VEVENT
UID:222@msswh.de
DTSTART;TZID=Europe/Berlin:20250626T193000
DTEND;TZID=Europe/Berlin:20250626T213000
DTSTAMP:20241218T050916Z
URL:https://msswh.de/events/montessori-update-seminar-beim-wechsel-in-die-
 oberstufe/
SUMMARY:Montessori Update-Seminar beim Wechsel in die Oberstufe
DESCRIPTION:Montessori Update-Seminar beim Wechsel in die Oberstufe
CATEGORIES:Elternakademie,Veranstaltung
LOCATION:Montessorischule Weißenhorn\, Private Montessori-Schule Weißenho
 rn Claretinerstraße 3 \, Weißenhorn\, 89264\, Deutschland
X-APPLE-STRUCTURED-LOCATION;VALUE=URI;X-ADDRESS=Private Montessori-Schule W
 eißenhorn Claretinerstraße 3 \, Weißenhorn\, 89264\, Deutschland;X-APPL
 E-RADIUS=100;X-TITLE=Montessorischule Weißenhorn:geo:0,0
END:VEVENT
BEGIN:VTIMEZONE
TZID:Europe/Berlin
X-LIC-LOCATION:Europe/Berlin
BEGIN:DAYLIGHT
DTSTART:20250330T030000
TZOFFSETFROM:+0100
TZOFFSETTO:+0200
TZNAME:CEST
END:DAYLIGHT
END:VTIMEZONE
END:VCALENDAR